BEGIN:VCALENDAR
VERSION:2.0
PRODID:gruene-unterfranken.de
METHOD:PUBLISH
BEGIN:VTIMEZONE
TZID:Europe/Berlin
X-LIC-LOCATION:Europe/Berlin
BEGIN:DAYLIGHT
TZOFFSETFROM:+0100
TZOFFSETTO:+0200
TZNAME:CEST
DTSTART:19700329T020000
RRULE:FREQ=YEARLY;INTERVAL=1;BYDAY=-1SU;BYMONTH=3
END:DAYLIGHT
BEGIN:STANDARD
TZOFFSETFROM:+0200
TZOFFSETTO:+0100
TZNAME:CET
DTSTART:19701025T030000
RRULE:FREQ=YEARLY;INTERVAL=1;BYDAY=-1SU;BYMONTH=10
END:STANDARD
END:VTIMEZONE
BEGIN:VEVENT
UID:9d94cc05381ae3e251eac68e69d94cb1@gruene-unterfranken.de
URL;VALUE=URI:https://gruene-unterfranken.de/termine/workshop-wordpress-s
 unflower/
LOCATION:
SUMMARY:Online-Schulung: Grüne Webseiten mit WordPress Theme Sunflower
DESCRIPTION;ALTREP="data:text/html,%0A%3Cp%3EDie%20Website%20des%20eigene
 n%20Orts-%20oder%20Kreisverbandes%20auf%20dem%20Laufenden%20zu%20halten%2
 C%20ist%20mit%20viel%20Arbeit%20f%C3%BCr%20die%20Ehrenamtlichen%20verbund
 en.%20Das%20WordPress%20Sunflower%20ist%20ein%20pflegeleichtes%20und%20ze
 itsparendes%20Content-Management-Theme%2C%26nbsp%3B%20das%20von%20der%20g
 r%C3%BCn-nahen%20Genossenschaft%20Verdigado%20angeboten%20wird.%20Die%20u
 nterfr%C3%A4nkische%20Bezirksgesch%C3%A4ftsf%C3%BChrerin%20Andrea%20Rauch
 %20erkl%C3%A4rt%20in%20diesem%20Crashkurs%2C%20wie%20auch%20Anf%C3%A4nger
 %2Ainnen%20ihre%20Website%20einfach%20und%20zeitsparend%20einrichten%20un
 d%20pflegen%20k%C3%B6nnen.%20Nach%20einem%20kurzen%20Input%20gibt%20es%20
 eine%20Live-Demo%20in%20Sunflower%20und%20danach%20ist%20Zeit%20f%C3%BCr%
 20Fragen.%3C%2Fp%3E%0A%0A%0A%0A%3Cp%3E%3Cstrong%3EF%C3%BCr%20wen%3A%26nbs
 p%3B%3C%2Fstrong%3Ealle%20gr%C3%BCnen%20Webseiten-Administratoren%2C%20di
 e%20bisher%20mit%20anderen%20CMS-Systemen%20oder%20Themes%20gearbeitet%20
 haben%20sowie%20GR%C3%9CNE%20in%20Ortsverb%C3%A4nden%20ohne%20Internetauf
 tritt%3C%2Fp%3E%0A%0A%0A%0A%3Cp%3E%3Cstrong%3EDauer%3C%2Fstrong%3E%3A%20c
 a.%201%2C5%20h%3C%2Fp%3E%0A%0A%0A%0A%3Cp%3E%3Cstrong%3ETermin%3C%2Fstrong
 %3E%3A%3C%2Fp%3E%0A%0A%0A%0A%3Cul%20class%3D%22wp-block-list%22%3E%0A%3Cl
 i%3EDonnerstag%2C%2013.06.2024%2C%20ab%2019%20Uhr%3C%2Fli%3E%0A%0A%0A%0A%
 3Cli%3EMittwoch%2C%2019.06.2024%2C%20ab%2010%20Uhr%3C%2Fli%3E%0A%3C%2Ful%
 3E%0A%0A%0A%0A%3Cp%3E%3Cstrong%3EReferentin%3A%3C%2Fstrong%3E%26nbsp%3BAn
 drea%20Rauch%3C%2Fp%3E%0A%0A%0A%0A%3Cp%3E%3Cstrong%3EKosten%3C%2Fstrong%3
 E%3A%20kostenloses%20Angebot%20des%20Landesverbandes%3C%2Fp%3E%0A%0A%0A%0
 A%3Cp%3E%3Cstrong%3EAnmeldung%3A%3C%2Fstrong%3E%26nbsp%3B%3Ca%20href%3D%2
 2mailto%3Abuero%40gruene-unterfranken.de%22%3Ebuero%5Bat%5Dgruene-unterfr
 anken.de%3C%2Fa%3E%3C%2Fp%3E%0A":Die Website des eigenen Orts- oder Kreis
 verbandes auf dem Laufenden zu halten\, ist mit viel Arbeit für die Ehre
 namtlichen verbunden. Das WordPress Sunflower ist ein pflegeleichtes und 
 zeitsparendes Content-Management-Theme\,  das von der grün-nahen Genoss
 enschaft Verdigado angeboten wird. Die unterfränkische Bezirksgeschäfts
 führerin Andrea Rauch erklärt in diesem Crashkurs\, wie auch Anfänger*
 innen ihre Website einfach und zeitsparend einrichten und pflegen können
 . Nach einem kurzen Input gibt es eine Live-Demo in Sunflower und danach 
 ist Zeit für Fragen.\n\nFür wen: alle grünen Webseiten-Administratore
 n\, die bisher mit anderen CMS-Systemen oder Themes gearbeitet haben sowi
 e GRÜNE in Ortsverbänden ohne Internetauftritt\n\nDauer: ca. 1\,5 h\n\n
 Termin:\n\nDonnerstag\, 13.06.2024\, ab 19 Uhr\n\nMittwoch\, 19.06.2024\,
  ab 10 Uhr\n\nReferentin: Andrea Rauch\n\nKosten: kostenloses Angebot de
 s Landesverbandes\n\nAnmeldung: buero[at]gruene-unterfranken.de
CLASS:PUBLIC
DTSTART;TZID=Europe/Berlin:20240613T190000
DTEND;TZID=Europe/Berlin:20240613T203000
DTSTAMP:20260422T224439
END:VEVENT
END:VCALENDAR