BEGIN:VCALENDAR
VERSION:2.0
PRODID:gruene-unterfranken.de
METHOD:PUBLISH
BEGIN:VTIMEZONE
TZID:Europe/Berlin
X-LIC-LOCATION:Europe/Berlin
BEGIN:DAYLIGHT
TZOFFSETFROM:+0100
TZOFFSETTO:+0200
TZNAME:CEST
DTSTART:19700329T020000
RRULE:FREQ=YEARLY;INTERVAL=1;BYDAY=-1SU;BYMONTH=3
END:DAYLIGHT
BEGIN:STANDARD
TZOFFSETFROM:+0200
TZOFFSETTO:+0100
TZNAME:CET
DTSTART:19701025T030000
RRULE:FREQ=YEARLY;INTERVAL=1;BYDAY=-1SU;BYMONTH=10
END:STANDARD
END:VTIMEZONE
BEGIN:VEVENT
UID:0fbb5c0a46c3664f47ce0864f5dc4438@gruene-unterfranken.de
URL;VALUE=URI:https://gruene-unterfranken.de/termine/ufr-diskussion-zur-u
 rabstimmung/
LOCATION:https://gruene-bayern-de.zoom-x.de/meeting/register/eaTdHEm7QyWe
 58wqEQUfdQ
SUMMARY:UFR: Diskussion zur Urabstimmung
DESCRIPTION;ALTREP="data:text/html,%3Cp%3EDer%20Bezirksvorstand%20l%C3%A4
 dt%20alle%20unterfr%C3%A4nkischen%20Mitglieder%20herzlich%20ein%2C%20sich
 %20%C3%BCber%20die%20Urabstimmung%20von%20B%C3%9CNDNIS%2090%2FDIE%20GR%C3
 %9CNEN%20zu%20informieren.%20Mitte%20Mai%20werden%20dann%20die%20Wahlbena
 chrichtigungen%20versandt.%20Mehr%20Informationen%20zum%20Thema%20gibt%20
 es%20unter%3A%20https%3A%2F%2Fgruene-unterfranken.de%2Furabstimmung-deine
 -stimme-fuer-die-partei-von-morgen%2F%3Cbr%20%2F%3E%0A%3Cbr%20%2F%3E%0AZu
 r%20Registrierung%20bitte%20auf%20%22Ort%22%20rechts%20im%20Kasten%20klic
 ken%21%3C%2Fp%3E":Der Bezirksvorstand lädt alle unterfränkischen Mitgli
 eder herzlich ein\, sich über die Urabstimmung von BÜNDNIS 90/DIE GRÜN
 EN zu informieren. Mitte Mai werden dann die Wahlbenachrichtigungen versa
 ndt. Mehr Informationen zum Thema gibt es unter: https://gruene-unterfran
 ken.de/urabstimmung-deine-stimme-fuer-die-partei-von-morgen/\n\nZur Regis
 trierung bitte auf "Ort" rechts im Kasten klicken!
CLASS:PUBLIC
DTSTART;TZID=Europe/Berlin:20260506T200000
DTEND;TZID=Europe/Berlin:20260506T213000
DTSTAMP:20260421T103633
END:VEVENT
END:VCALENDAR