BEGIN:VCALENDAR
VERSION:2.0
PRODID:gruene-unterfranken.de
METHOD:PUBLISH
BEGIN:VTIMEZONE
TZID:Europe/Berlin
X-LIC-LOCATION:Europe/Berlin
BEGIN:DAYLIGHT
TZOFFSETFROM:+0100
TZOFFSETTO:+0200
TZNAME:CEST
DTSTART:19700329T020000
RRULE:FREQ=YEARLY;INTERVAL=1;BYDAY=-1SU;BYMONTH=3
END:DAYLIGHT
BEGIN:STANDARD
TZOFFSETFROM:+0200
TZOFFSETTO:+0100
TZNAME:CET
DTSTART:19701025T030000
RRULE:FREQ=YEARLY;INTERVAL=1;BYDAY=-1SU;BYMONTH=10
END:STANDARD
END:VTIMEZONE
BEGIN:VEVENT
UID:247145a2f51ed3003b426a160eec1910@gruene-unterfranken.de
URL;VALUE=URI:https://gruene-unterfranken.de/termine/schulung-freiwillige
 nmanagement-fuer-mitgliederbeauftragte/
LOCATION:
SUMMARY:Schulung Freiwilligenmanagement für Mitgliederbeauftragte 
DESCRIPTION;ALTREP="data:text/html,%3Cp%3EDer%20Bundesverband%20veranstal
 tet%20wieder%20eine%20Schulung%20f%C3%BCr%20die%20Mitgliederbeauftragten%
 20der%20Kreisverb%C3%A4nde.%20%3Cbr%20%2F%3E%0ADauer%3A%20ca.%201%2C5%20h
 %3Cbr%20%2F%3E%0AKosten%3A%20kostenloses%20Angebot%20des%20Bundesverbande
 s%3Cbr%20%2F%3E%0AKontakt%20f%C3%BCr%20mehr%20Infos%3A%20aktiv%40gruene.d
 e%3Cbr%20%2F%3E%0A%3Cbr%20%2F%3E%0AAnmeldung%3A%20https%3A%2F%2Fgruene-de
 .zoom.us%2Fmeeting%2Fregister%2FX_TAWkxGSSOgZFTOGTMvRQ%23%2Fregistration%
 3C%2Fp%3E":Der Bundesverband veranstaltet wieder eine Schulung für die M
 itgliederbeauftragten der Kreisverbände.\n\nDauer: ca. 1\,5 h\n\nKosten:
  kostenloses Angebot des Bundesverbandes\n\nKontakt für mehr Infos: akti
 v@gruene.de\n\nAnmeldung: https://gruene-de.zoom.us/meeting/register/X_TA
 WkxGSSOgZFTOGTMvRQ#/registration
CLASS:PUBLIC
DTSTART;TZID=Europe/Berlin:20261103T183000
DTEND;TZID=Europe/Berlin:20261103T200000
DTSTAMP:20260421T110221
END:VEVENT
END:VCALENDAR