BEGIN:VCALENDAR
VERSION:2.0
PRODID:gruene-unterfranken.de
METHOD:PUBLISH
BEGIN:VTIMEZONE
TZID:Europe/Berlin
X-LIC-LOCATION:Europe/Berlin
BEGIN:DAYLIGHT
TZOFFSETFROM:+0100
TZOFFSETTO:+0200
TZNAME:CEST
DTSTART:19700329T020000
RRULE:FREQ=YEARLY;INTERVAL=1;BYDAY=-1SU;BYMONTH=3
END:DAYLIGHT
BEGIN:STANDARD
TZOFFSETFROM:+0200
TZOFFSETTO:+0100
TZNAME:CET
DTSTART:19701025T030000
RRULE:FREQ=YEARLY;INTERVAL=1;BYDAY=-1SU;BYMONTH=10
END:STANDARD
END:VTIMEZONE
BEGIN:VEVENT
UID:e0254bceed64b8279a0af4f319ff9748@gruene-unterfranken.de
URL;VALUE=URI:https://gruene-unterfranken.de/termine/programm-komitee-bez
 irkswahl-2023/
LOCATION:
SUMMARY:Programm-Komitee Bezirkswahl 2023
DESCRIPTION;ALTREP="data:text/html,%0A%3Cp%3EAuf%20Einladung%20der%20Bezi
 rkstagsfraktion%20treffen%20sich%20die%2019%20Bezirkswahlkandidierenden%2
 0am%20kommenden%20Samstag%2C%204.%20M%C3%A4rz%20in%20W%C3%BCrzburg%20ab%2
 014%20Uhr%20zum%20Programm-Komitee.%20Nach%20einer%20Vorstellung%20des%20
 letzten%20Bezirkswahlprogrammes%20geht%20es%20um%20den%20Kickoff%20der%20
 Programmerstellung%20f%C3%BCr%20die%20n%C3%A4chsten%20f%C3%BCnf%20Jahre%2
 0im%20Bezirkstag.%20Die%20Kandidierenden%20wurden%20von%20Gerhard%20M%C3%
 BCller%20%28gerhard.mueller%40gruene-bezirkstag-unterfranken.de%29%20dire
 kt%20eingeladen.%20%3C%2Fp%3E%0A":Auf Einladung der Bezirkstagsfraktion t
 reffen sich die 19 Bezirkswahlkandidierenden am kommenden Samstag\, 4. M
 ärz in Würzburg ab 14 Uhr zum Programm-Komitee. Nach einer Vorstellung 
 des letzten Bezirkswahlprogrammes geht es um den Kickoff der Programmerst
 ellung für die nächsten fünf Jahre im Bezirkstag. Die Kandidierenden w
 urden von Gerhard Müller (gerhard.mueller@gruene-bezirkstag-unterfranken
 .de) direkt eingeladen.
CLASS:PUBLIC
DTSTART;TZID=Europe/Berlin:20230304T140000
DTEND;TZID=Europe/Berlin:20230304T190000
DTSTAMP:20260422T153326
END:VEVENT
END:VCALENDAR