BEGIN:VCALENDAR
VERSION:2.0
PRODID:gruene-unterfranken.de
METHOD:PUBLISH
BEGIN:VTIMEZONE
TZID:Europe/Berlin
X-LIC-LOCATION:Europe/Berlin
BEGIN:DAYLIGHT
TZOFFSETFROM:+0100
TZOFFSETTO:+0200
TZNAME:CEST
DTSTART:19700329T020000
RRULE:FREQ=YEARLY;INTERVAL=1;BYDAY=-1SU;BYMONTH=3
END:DAYLIGHT
BEGIN:STANDARD
TZOFFSETFROM:+0200
TZOFFSETTO:+0100
TZNAME:CET
DTSTART:19701025T030000
RRULE:FREQ=YEARLY;INTERVAL=1;BYDAY=-1SU;BYMONTH=10
END:STANDARD
END:VTIMEZONE
BEGIN:VEVENT
UID:b1215d9963dc94be8d0d7c4be5a04bd3@gruene-unterfranken.de
URL;VALUE=URI:https://gruene-unterfranken.de/termine/paul-tierschutzskand
 ale/
LOCATION:
SUMMARY:Im Gespräch mit der Landtagsfraktion: „Aktuelle Tierschutzskan
 dale in Bayern“
DESCRIPTION;ALTREP="data:text/html,%0A%3Cp%3E%3Cstrong%3EDienstag%2C%201.
 %20Juli%20ab%2020%20Uhr%3A%3C%2Fstrong%3E%20Die%20GR%C3%9CNEN%20Unterfran
 ken%20laden%20ein%2C%20um%20mit%20dem%20Landtagsabgeordneten%20Paul%20Kno
 blach%20%C3%BCber%20das%20Thema%20%E2%80%9EAktuelle%20Tierschutzskandale%
 20in%20Bayern%E2%80%9C%20zu%20sprechen.%20Er%20ist%20Sprecher%20f%C3%BCr%
 20Tierschutz%20in%20der%20Landtagsfraktion.%3C%2Fp%3E%0A%0A%0A%0A%3Cp%3ED
 ie%20Veranstaltung%20ist%20mitgliederintern%21%20Hier%20geht%20es%20zur%2
 0Registrierung.%20Mitgliedschaft%20wird%20gepr%C3%BCft.%3C%2Fp%3E%0A%0A%0
 A%0A%3Cdiv%20style%3D%22height%3A100px%22%20aria-hidden%3D%22true%22%20cl
 ass%3D%22wp-block-spacer%22%3E%3C%2Fdiv%3E%0A%0A%0A%0A%3Cdiv%20class%3D%2
 2wp-block-buttons%20is-layout-flex%20wp-block-buttons-is-layout-flex%22%3
 E%0A%3Cdiv%20class%3D%22wp-block-button%22%3E%3Ca%20class%3D%22wp-block-b
 utton__link%20wp-element-button%22%20href%3D%22https%3A%2F%2Fgruene-bayer
 n-de.zoom-x.de%2Fmeeting%2Fregister%2F2iLrGFw8T5SXsz0ORemrEw%22%20target%
 3D%22_blank%22%20rel%3D%22%20noreferrer%20noopener%20nofollow%22%3EZur%20
 Anmeldung%3C%2Fa%3E%3C%2Fdiv%3E%0A%3C%2Fdiv%3E%0A%0A%0A%0A%3Cp%3E%3C%2Fp%
 3E%0A":Dienstag\, 1. Juli ab 20 Uhr: Die GRÜNEN Unterfranken laden ein\,
  um mit dem Landtagsabgeordneten Paul Knoblach über das Thema „Aktuell
 e Tierschutzskandale in Bayern“ zu sprechen. Er ist Sprecher für Tiers
 chutz in der Landtagsfraktion.\n\nDie Veranstaltung ist mitgliederintern!
  Hier geht es zur Registrierung. Mitgliedschaft wird geprüft.\n\nZur Anm
 eldung
CLASS:PUBLIC
DTSTART;TZID=Europe/Berlin:20250701T200000
DTEND;TZID=Europe/Berlin:20250701T210000
DTSTAMP:20260424T221033
END:VEVENT
END:VCALENDAR