BEGIN:VCALENDAR
VERSION:2.0
PRODID:gruene-unterfranken.de
METHOD:PUBLISH
BEGIN:VTIMEZONE
TZID:Europe/Berlin
X-LIC-LOCATION:Europe/Berlin
BEGIN:DAYLIGHT
TZOFFSETFROM:+0100
TZOFFSETTO:+0200
TZNAME:CEST
DTSTART:19700329T020000
RRULE:FREQ=YEARLY;INTERVAL=1;BYDAY=-1SU;BYMONTH=3
END:DAYLIGHT
BEGIN:STANDARD
TZOFFSETFROM:+0200
TZOFFSETTO:+0100
TZNAME:CET
DTSTART:19701025T030000
RRULE:FREQ=YEARLY;INTERVAL=1;BYDAY=-1SU;BYMONTH=10
END:STANDARD
END:VTIMEZONE
BEGIN:VEVENT
UID:670309351c7a45120605c4de48bffa9a@gruene-unterfranken.de
URL;VALUE=URI:https://gruene-unterfranken.de/termine/nachhaltigkeit-in-de
 r-kultur-mit-claudia-roth/
LOCATION:
SUMMARY:Nachhaltigkeit in der Kultur mit Claudia Roth
DESCRIPTION;ALTREP="data:text/html,%0A%3Cp%3ESonntag%2C%201.10.%20um%2015
 %20Uhr%20in%20W%C3%BCrzburg%3A%20Die%20%C3%B6kologische%20Transformation%
 20als%20Gemeinschaftsaufgabe%20betrifft%20auch%20die%20Kulturbranche.%20D
 as%20Podiumsgespr%C3%A4ch%20bringt%20Kultur%20und%20Politik%20zusammen%2C
 %20um%20%C3%BCber%20M%C3%B6glichkeiten%20und%20Wege%20zu%20einem%20klima-
 %20und%20ressourcenschonenden%20Kulturbetrieb%20zu%20diskutieren%20sowie%
 20sich%20%C3%BCber%20eigene%20Projekte%2C%20Initiativen%20und%20Erfahrung
 en%20auszutauschen.%20Zusammen%20mit%20der%20Landesarbeitsgemeinschaft%20
 Kultur%20%28LAG%29%20veranstalten%20die%20Gr%C3%BCnen%20in%20W%C3%BCrzbur
 g%20ein%20Podiumsgespr%C3%A4ch.%20Mit%20dabei%20sind%20Ulli%20Heinlein%2C
 %20Upcyclingk%C3%BCnstlerin%2C%20Ralf%20Duggen%20vom%20Dachverband%20Frei
 er%20W%C3%BCrzburger%20K%C3%BCnstler%2C%20sowie%20Csaba%20Beke%2C%20Leite
 r%20des%20Theaters%20Chambinzky.%20Ebenfalls%20k%C3%B6nnen%20sie%20mit%20
 den%20Direktkandidierenden%20Kerstin%20Celina%20und%20Patrick%20Friedl%20
 ins%20Gespr%C3%A4ch%20kommen.%26nbsp%3B%3C%2Fp%3E%0A%0A%0A%0A%3Cp%3EWo%3A
 %20Theater%20Chambinzky%2C%20Valentin-Becker-Stra%C3%9Fe%202%2C%2097072%2
 0W%C3%BCrzburg%3C%2Fp%3E%0A%0A%0A%0A%3Cp%3EWann%3A%20Sonntag%2C%2001.10.2
 3%20um%2015%20Uhr%3C%2Fp%3E%0A":Sonntag\, 1.10. um 15 Uhr in Würzburg: D
 ie ökologische Transformation als Gemeinschaftsaufgabe betrifft auch die
  Kulturbranche. Das Podiumsgespräch bringt Kultur und Politik zusammen\,
  um über Möglichkeiten und Wege zu einem klima- und ressourcenschonende
 n Kulturbetrieb zu diskutieren sowie sich über eigene Projekte\, Initiat
 iven und Erfahrungen auszutauschen. Zusammen mit der Landesarbeitsgemeins
 chaft Kultur (LAG) veranstalten die Grünen in Würzburg ein Podiumsgespr
 äch. Mit dabei sind Ulli Heinlein\, Upcyclingkünstlerin\, Ralf Duggen v
 om Dachverband Freier Würzburger Künstler\, sowie Csaba Beke\, Leiter d
 es Theaters Chambinzky. Ebenfalls können sie mit den Direktkandidierende
 n Kerstin Celina und Patrick Friedl ins Gespräch kommen. \n\nWo: Theate
 r Chambinzky\, Valentin-Becker-Straße 2\, 97072 Würzburg\n\nWann: Sonnt
 ag\, 01.10.23 um 15 Uhr
CLASS:PUBLIC
DTSTART;TZID=Europe/Berlin:20231001T150000
DTEND;TZID=Europe/Berlin:20231001T170000
DTSTAMP:20260424T000055
END:VEVENT
END:VCALENDAR