BEGIN:VCALENDAR
VERSION:2.0
PRODID:gruene-unterfranken.de
METHOD:PUBLISH
BEGIN:VTIMEZONE
TZID:Europe/Berlin
X-LIC-LOCATION:Europe/Berlin
BEGIN:DAYLIGHT
TZOFFSETFROM:+0100
TZOFFSETTO:+0200
TZNAME:CEST
DTSTART:19700329T020000
RRULE:FREQ=YEARLY;INTERVAL=1;BYDAY=-1SU;BYMONTH=3
END:DAYLIGHT
BEGIN:STANDARD
TZOFFSETFROM:+0200
TZOFFSETTO:+0100
TZNAME:CET
DTSTART:19701025T030000
RRULE:FREQ=YEARLY;INTERVAL=1;BYDAY=-1SU;BYMONTH=10
END:STANDARD
END:VTIMEZONE
BEGIN:VEVENT
UID:1497369d0d904265e2785c6c01310840@gruene-unterfranken.de
URL;VALUE=URI:https://gruene-unterfranken.de/termine/landesverband-digita
 ler-demokratie-lunch-konservatismus-kulturkampf/
LOCATION:
SUMMARY:Landesverband: Digitaler Demokratie-Lunch „Konservatismus & Kul
 turkampf“
DESCRIPTION;ALTREP="data:text/html,%3Cp%3EKonservative%20Rollbacks%2C%20r
 echter%20Kulturkampf%20und%20gezielte%20Angriffe%20auf%20Vielfalt%20und%2
 0Gleichberechtigung%20stellen%20unsere%20Demokratie%20vor%20neue%20Heraus
 forderungen.%20Wie%20begegnen%20wir%20diesen%20Entwicklungen%20entschloss
 en%2C%20progressiv%20und%20demokratisch%3F%3Cbr%20%2F%3E%0A%3Cbr%20%2F%3E
 %0ABeim%20digitalen%20Demokratie%20Lunch%20diskutiert%20der%20Landesverba
 nd%20mit%20Claudia%20Roth%20%28MdB%29%2C%20dem%20%20Politikwissenschaftle
 r%20Bernhard%20Sch%C3%BCssler%2C%20wie%20Konservatismus%20heute%20politis
 ch%20wirkt%2C%20wo%20er%20in%20Kulturk%C3%A4mpfe%20kippt%20%E2%80%93%20un
 d%20was%20das%20f%C3%BCr%20eine%20wehrhafte%2C%20vielf%C3%A4ltige%20Demok
 ratie%20bedeutet.%20Moderiert%20wird%20das%20Gespr%C3%A4ch%20von%20Theres
 a%20Eberlein%2C%20frauen-%20und%20vielfaltspolitische%20Sprecherin%20im%2
 0Landesvorstand%20der%20GR%C3%9CNEN%20Bayern.%3Cbr%20%2F%3E%0A%3Cbr%20%2F
 %3E%0ADie%20Veranstaltung%20richtet%20sich%20an%20Mitglieder%20von%20B%C3
 %BCndnis%2090%2FDie%20Gr%C3%BCnen.%3Cbr%20%2F%3E%0A%3Cbr%20%2F%3E%0AEine%
 20Anmeldung%20ist%20%C3%BCber%20diesen%20Link%20m%C3%B6glich%3A%20%3Cbr%2
 0%2F%3E%0Ahttps%3A%2F%2Fwww.gruene-bayern.de%2Ftermin%2Fdigitaler-demokra
 tie-lunch-konservatismus-kulturkampf%2F%3C%2Fp%3E":Konservative Rollbacks
 \, rechter Kulturkampf und gezielte Angriffe auf Vielfalt und Gleichberec
 htigung stellen unsere Demokratie vor neue Herausforderungen. Wie begegne
 n wir diesen Entwicklungen entschlossen\, progressiv und demokratisch?\n\
 nBeim digitalen Demokratie Lunch diskutiert der Landesverband mit Claudia
  Roth (MdB)\, dem  Politikwissenschaftler Bernhard Schüssler\, wie Konse
 rvatismus heute politisch wirkt\, wo er in Kulturkämpfe kippt – und wa
 s das für eine wehrhafte\, vielfältige Demokratie bedeutet. Moderiert w
 ird das Gespräch von Theresa Eberlein\, frauen- und vielfaltspolitische 
 Sprecherin im Landesvorstand der GRÜNEN Bayern.\n\nDie Veranstaltung ric
 htet sich an Mitglieder von Bündnis 90/Die Grünen.\n\nEine Anmeldung is
 t über diesen Link möglich:\n\nhttps://www.gruene-bayern.de/termin/digi
 taler-demokratie-lunch-konservatismus-kulturkampf/
CLASS:PUBLIC
DTSTART;TZID=Europe/Berlin:20260424T120000
DTEND;TZID=Europe/Berlin:20260424T130000
DTSTAMP:20260422T110043
END:VEVENT
END:VCALENDAR