BEGIN:VCALENDAR
VERSION:2.0
PRODID:gruene-unterfranken.de
METHOD:PUBLISH
BEGIN:VTIMEZONE
TZID:Europe/Berlin
X-LIC-LOCATION:Europe/Berlin
BEGIN:DAYLIGHT
TZOFFSETFROM:+0100
TZOFFSETTO:+0200
TZNAME:CEST
DTSTART:19700329T020000
RRULE:FREQ=YEARLY;INTERVAL=1;BYDAY=-1SU;BYMONTH=3
END:DAYLIGHT
BEGIN:STANDARD
TZOFFSETFROM:+0200
TZOFFSETTO:+0100
TZNAME:CET
DTSTART:19701025T030000
RRULE:FREQ=YEARLY;INTERVAL=1;BYDAY=-1SU;BYMONTH=10
END:STANDARD
END:VTIMEZONE
BEGIN:VEVENT
UID:4183c21d20fe0d7a0a0cb0644d30ab6a@gruene-unterfranken.de
URL;VALUE=URI:https://gruene-unterfranken.de/termine/landesausschuss/
LOCATION:
SUMMARY:Landesausschuss
DESCRIPTION;ALTREP="data:text/html,%0A%3Cp%3EAm%20Mittwoch%2C%2013.%20Sep
 tember%2C%20bespricht%20sich%20der%20Landesausschuss%20von%20B%C3%9CNDNIS
 %2090%2FDIE%20GR%C3%9CNEN%20in%20einer%20digitalen%20Konferenz%20zu%20akt
 uellen%20Themen.%3C%2Fp%3E%0A%0A%0A%0A%3Cp%3EDer%20Bezirk%20Unterfranken%
 20wird%20vertreten%20durch%20unseren%20Bezirksvorsitzenden%20Volker%20Gol
 l.%3C%2Fp%3E%0A":Am Mittwoch\, 13. September\, bespricht sich der Landesa
 usschuss von BÜNDNIS 90/DIE GRÜNEN in einer digitalen Konferenz zu aktu
 ellen Themen.\n\nDer Bezirk Unterfranken wird vertreten durch unseren Bez
 irksvorsitzenden Volker Goll.
CLASS:PUBLIC
DTSTART;TZID=Europe/Berlin:20230913
DTEND;TZID=Europe/Berlin:20230913
DTSTAMP:20260422T023850
END:VEVENT
END:VCALENDAR