BEGIN:VCALENDAR
VERSION:2.0
PRODID:gruene-unterfranken.de
METHOD:PUBLISH
BEGIN:VTIMEZONE
TZID:Europe/Berlin
X-LIC-LOCATION:Europe/Berlin
BEGIN:DAYLIGHT
TZOFFSETFROM:+0100
TZOFFSETTO:+0200
TZNAME:CEST
DTSTART:19700329T020000
RRULE:FREQ=YEARLY;INTERVAL=1;BYDAY=-1SU;BYMONTH=3
END:DAYLIGHT
BEGIN:STANDARD
TZOFFSETFROM:+0200
TZOFFSETTO:+0100
TZNAME:CET
DTSTART:19701025T030000
RRULE:FREQ=YEARLY;INTERVAL=1;BYDAY=-1SU;BYMONTH=10
END:STANDARD
END:VTIMEZONE
BEGIN:VEVENT
UID:95981a4acab182977ffcf99bd8987bf5@gruene-unterfranken.de
URL;VALUE=URI:https://gruene-unterfranken.de/termine/kvtreffenq124/
LOCATION:
SUMMARY:Kreisvorstände-Treffen Unterfranken
DESCRIPTION;ALTREP="data:text/html,%0A%3Cp%3EMittwoch%2C%207.%20Februar%2
 02024%20ab%2020%20Uhr%3A%20Der%20Bezirksvorstand%20bespricht%20sich%20vie
 rtelj%C3%A4hrlich%20mit%20unseren%2011%20Kreisvorst%C3%A4nden%20zu%20aktu
 ellen%20Themen.%20Die%20Sitzung%20findet%20digital%20statt.%20Die%20Agend
 a%20folgt%C2%A0cirka%C2%A01%20Woche%20vor%20dem%20Treffen%20direkt%20an%2
 0die%20Kreisvorst%C3%A4nde.%3C%2Fp%3E%0A%0A%0A%0A%3Cp%3EDer%20Zugangslink
 %20geht%20direkt%20an%20die%20Mitglieder%20der%20Kreisvorst%C3%A4nde.%3C%
 2Fp%3E%0A":Mittwoch\, 7. Februar 2024 ab 20 Uhr: Der Bezirksvorstand besp
 richt sich vierteljährlich mit unseren 11 Kreisvorständen zu aktuellen 
 Themen. Die Sitzung findet digital statt. Die Agenda folgt cirka 1 Woch
 e vor dem Treffen direkt an die Kreisvorstände.\n\nDer Zugangslink geht 
 direkt an die Mitglieder der Kreisvorstände.
CLASS:PUBLIC
DTSTART;TZID=Europe/Berlin:20240207T200000
DTEND;TZID=Europe/Berlin:20240207T210000
DTSTAMP:20260421T060233
END:VEVENT
END:VCALENDAR