BEGIN:VCALENDAR
VERSION:2.0
PRODID:gruene-unterfranken.de
METHOD:PUBLISH
BEGIN:VTIMEZONE
TZID:Europe/Berlin
X-LIC-LOCATION:Europe/Berlin
BEGIN:DAYLIGHT
TZOFFSETFROM:+0100
TZOFFSETTO:+0200
TZNAME:CEST
DTSTART:19700329T020000
RRULE:FREQ=YEARLY;INTERVAL=1;BYDAY=-1SU;BYMONTH=3
END:DAYLIGHT
BEGIN:STANDARD
TZOFFSETFROM:+0200
TZOFFSETTO:+0100
TZNAME:CET
DTSTART:19701025T030000
RRULE:FREQ=YEARLY;INTERVAL=1;BYDAY=-1SU;BYMONTH=10
END:STANDARD
END:VTIMEZONE
BEGIN:VEVENT
UID:3801c4b34c418b939bbff5b8ffe18f9d@gruene-unterfranken.de
URL;VALUE=URI:https://gruene-unterfranken.de/termine/kreisvorstaende-tref
 fen-unterfranken/
LOCATION:
SUMMARY:Kreisvorstände-Treffen Unterfranken
DESCRIPTION;ALTREP="data:text/html,%0A%3Cp%3EMittwoch%2C%2011.%20Oktober%
 20ab%2020%20Uhr%3A%20Der%20Bezirksvorstand%20bespricht%20sich%20viertelj%
 C3%A4hrlich%20mit%20unseren%2011%20Kreisvorst%C3%A4nden%20zu%20aktuellen%
 20Themen%2C%20insbesondere%20der%20Nachbesprechung%20der%20Landtags-%20un
 d%20Bezirkswahl.%20Die%20Sitzung%20findet%20digital%20statt.%20Die%20Zuga
 ngsdaten%20sowie%20die%20Agenda%20folgt%C2%A0cirka%C2%A01%20Woche%20vor%2
 0dem%20Treffen%20direkt%20an%20die%20Kreisvorst%C3%A4nde.%3C%2Fp%3E%0A":M
 ittwoch\, 11. Oktober ab 20 Uhr: Der Bezirksvorstand bespricht sich viert
 eljährlich mit unseren 11 Kreisvorständen zu aktuellen Themen\, insbeso
 ndere der Nachbesprechung der Landtags- und Bezirkswahl. Die Sitzung find
 et digital statt. Die Zugangsdaten sowie die Agenda folgt cirka 1 Woche
  vor dem Treffen direkt an die Kreisvorstände.
CLASS:PUBLIC
DTSTART;TZID=Europe/Berlin:20231011T200000
DTEND;TZID=Europe/Berlin:20231011T210000
DTSTAMP:20260421T030103
END:VEVENT
END:VCALENDAR