BEGIN:VCALENDAR
VERSION:2.0
PRODID:gruene-unterfranken.de
METHOD:PUBLISH
BEGIN:VTIMEZONE
TZID:Europe/Berlin
X-LIC-LOCATION:Europe/Berlin
BEGIN:DAYLIGHT
TZOFFSETFROM:+0100
TZOFFSETTO:+0200
TZNAME:CEST
DTSTART:19700329T020000
RRULE:FREQ=YEARLY;INTERVAL=1;BYDAY=-1SU;BYMONTH=3
END:DAYLIGHT
BEGIN:STANDARD
TZOFFSETFROM:+0200
TZOFFSETTO:+0100
TZNAME:CET
DTSTART:19701025T030000
RRULE:FREQ=YEARLY;INTERVAL=1;BYDAY=-1SU;BYMONTH=10
END:STANDARD
END:VTIMEZONE
BEGIN:VEVENT
UID:d8f7e1e5d0ca8de561ff924086db7f67@gruene-unterfranken.de
URL;VALUE=URI:https://gruene-unterfranken.de/termine/gribs-kongress-2026/
LOCATION:Karl-Bröger-Zentrum, Nürnberg
SUMMARY:Gribs Kongress 2026
DESCRIPTION;ALTREP="data:text/html,%3Cp%3EFreitag%2C%2015.%20-%20Samstag%
 2C%2016.%20Mai%3A%20Der%20Gribs-Kongress%20findet%20wieder%20in%20N%C3%BC
 rnberg%20statt.%20Alle%20Mandatstr%C3%A4ger%2Ainnen%20sind%20herzlich%20e
 ingeladen.%20Weitere%20Infos%20folgen%20rechtzeitig%20auf%20der%20Gribs-W
 ebsite%20unter%3Cbr%20%2F%3E%0A%3Cbr%20%2F%3E%0Awww.gribs.net%3C%2Fp%3E":
 Freitag\, 15. - Samstag\, 16. Mai: Der Gribs-Kongress findet wieder in N
 ürnberg statt. Alle Mandatsträger*innen sind herzlich eingeladen. Weite
 re Infos folgen rechtzeitig auf der Gribs-Website unter\n\nwww.gribs.net
CLASS:PUBLIC
DTSTART;TZID=Europe/Berlin:20260515
DTEND;TZID=Europe/Berlin:20260517
DTSTAMP:20260421T104122
END:VEVENT
END:VCALENDAR