BEGIN:VCALENDAR
VERSION:2.0
PRODID:gruene-unterfranken.de
METHOD:PUBLISH
BEGIN:VTIMEZONE
TZID:Europe/Berlin
X-LIC-LOCATION:Europe/Berlin
BEGIN:DAYLIGHT
TZOFFSETFROM:+0100
TZOFFSETTO:+0200
TZNAME:CEST
DTSTART:19700329T020000
RRULE:FREQ=YEARLY;INTERVAL=1;BYDAY=-1SU;BYMONTH=3
END:DAYLIGHT
BEGIN:STANDARD
TZOFFSETFROM:+0200
TZOFFSETTO:+0100
TZNAME:CET
DTSTART:19701025T030000
RRULE:FREQ=YEARLY;INTERVAL=1;BYDAY=-1SU;BYMONTH=10
END:STANDARD
END:VTIMEZONE
BEGIN:VEVENT
UID:56b498a971cea11573b31690ed61fdb0@gruene-unterfranken.de
URL;VALUE=URI:https://gruene-unterfranken.de/termine/geo-net-fruehlingsem
 pfang-gerolzhofen/
LOCATION:Theaterhaus, Centgasse 4, Gerolzhofen
SUMMARY:Frühlingsempfang geo-net & GRÜNE Schweinfurt
DESCRIPTION;ALTREP="data:text/html,%0A%3Cp%3EFreitag%2C%2010.%20Mai%3A%20
 Die%20gr%C3%BCn-nahe%20Kommunalliste%20geo-net%20aus%20Gerolzhofen%20vera
 nstaltet%20zusammen%20mit%20dem%20Kreisverband%20Schweinfurt%20seinen%20F
 r%C3%BChjahrsempfang%3A%3C%2Fp%3E%0A%0A%0A%0A%3Cp%3E%3Cstrong%3EFreitag%2
 C%2010.%20Mai%20ab%2019%20Uhr%3Cbr%3Eim%C2%A0Theaterhaus%20Gerolzhofen%2C
 %20Centgasse%204%2C%20Gerolzhofen%3C%2Fstrong%3E%3C%2Fp%3E%0A%0A%0A%0A%3C
 figure%20class%3D%22wp-block-table%22%3E%3Ctable%3E%3Ctbody%3E%3Ctr%3E%3C
 td%3EHauptrednerin%20ist%20die%C2%A0%3Cstrong%3ESprecherin%20der%20Bayeri
 schen%20Gr%C3%BCnen%2C%20Gisela%20Seng%3C%2Fstrong%3El.%3Cbr%3E%3Cbr%3EWe
 itere%20G%C3%A4ste%20sind%20u.a.%C2%A0%3Cstrong%3EManuela%20Rottman%20MdB
 %3C%2Fstrong%3E%2C%C2%A0%3Cstrong%3EPaul%20Knoblach%20MdL%2C%20Landrat%20
 Florian%20T%C3%B6pper%3C%2Fstrong%3E%2C%20sowie%20viele%20Kreis-%2C%20Sta
 dt-%20und%20Gemeinder%C3%A4t%2Ainnen%20aus%20unserem%20Landkreis%20und%20
 der%20Stadt%20Schweinfurt%20und%20aus%20den%20benachbarten%20Landkreisen.
 Musikalischer%20Rahmen%20durch%20Achim%20Hofmann.%3C%2Ftd%3E%3C%2Ftr%3E%3
 Ctr%3E%3Ctd%3EParkm%C3%B6glichkeiten%20gibt%20es%20am%20Marktplatz%20oder
 %20im%20Hof%20der%20Verwaltungsgemeinschaft.%20Die%20An-%20und%20Abfahrt%
 20ist%20auch%20mit%26nbsp%3BCallHeinz%26nbsp%3B%28%3Ca%20href%3D%22https%
 3A%2F%2Fwww.callheinz.de%2F%22%3Ewww.callheinz.de%3C%2Fa%3E%29%20zur%20Ha
 ltestelle%20am%20Marktplatz%20m%C3%B6glich.%3Cbr%3E%3Cbr%3EWir%20freuen%2
 0uns%20auf%20zahlreiches%20Kommen.%20F%C3%BCr%20die%20weitere%20Planung%2
 0bitten%20wir%20um%20Anmeldung%20%C3%BCber%20die%20Teilnahme%20bis%20zum%
 2030.04.2024%20per%20Mail%20an%26nbsp%3B%3Ca%20href%3D%22mailto%3Ainfo%40
 gruene-schweinfurt.de%22%3Einfo%40gruene-schweinfurt.de%3C%2Fa%3E.%3C%2Ft
 d%3E%3C%2Ftr%3E%3C%2Ftbody%3E%3C%2Ftable%3E%3C%2Ffigure%3E%0A":Freitag\, 
 10. Mai: Die grün-nahe Kommunalliste geo-net aus Gerolzhofen veranstalte
 t zusammen mit dem Kreisverband Schweinfurt seinen Frühjahrsempfang:\n\n
 Freitag\, 10. Mai ab 19 Uhrim Theaterhaus Gerolzhofen\, Centgasse 4\, Ge
 rolzhofen\n\nHauptrednerin ist die Sprecherin der Bayerischen Grünen\, 
 Gisela Sengl.Weitere Gäste sind u.a. Manuela Rottman MdB\, Paul Knobla
 ch MdL\, Landrat Florian Töpper\, sowie viele Kreis-\, Stadt- und Gemein
 derät*innen aus unserem Landkreis und der Stadt Schweinfurt und aus den 
 benachbarten Landkreisen.Musikalischer Rahmen durch Achim Hofmann.Parkmö
 glichkeiten gibt es am Marktplatz oder im Hof der Verwaltungsgemeinschaft
 . Die An- und Abfahrt ist auch mit CallHeinz (www.callheinz.de) zur Hal
 testelle am Marktplatz möglich.Wir freuen uns auf zahlreiches Kommen. F
 ür die weitere Planung bitten wir um Anmeldung über die Teilnahme bis z
 um 30.04.2024 per Mail an info@gruene-schweinfurt.de.
CLASS:PUBLIC
DTSTART;TZID=Europe/Berlin:20240510T190000
DTEND;TZID=Europe/Berlin:20240510T220000
DTSTAMP:20260423T202019
END:VEVENT
END:VCALENDAR