BEGIN:VCALENDAR
VERSION:2.0
PRODID:gruene-unterfranken.de
METHOD:PUBLISH
BEGIN:VTIMEZONE
TZID:Europe/Berlin
X-LIC-LOCATION:Europe/Berlin
BEGIN:DAYLIGHT
TZOFFSETFROM:+0100
TZOFFSETTO:+0200
TZNAME:CEST
DTSTART:19700329T020000
RRULE:FREQ=YEARLY;INTERVAL=1;BYDAY=-1SU;BYMONTH=3
END:DAYLIGHT
BEGIN:STANDARD
TZOFFSETFROM:+0200
TZOFFSETTO:+0100
TZNAME:CET
DTSTART:19701025T030000
RRULE:FREQ=YEARLY;INTERVAL=1;BYDAY=-1SU;BYMONTH=10
END:STANDARD
END:VTIMEZONE
BEGIN:VEVENT
UID:215c5d103ca07c689ede6936260359de@gruene-unterfranken.de
URL;VALUE=URI:https://gruene-unterfranken.de/termine/gebaeudeenergiegeset
 z/
LOCATION:
SUMMARY:Bezahlbare, klimafreundliche Wärme. Worum geht’s beim Gebäude
 energiegesetz?
DESCRIPTION;ALTREP="data:text/html,%0A%3Cp%3EEinladung%20zu%20einer%20kur
 zfristigen%20Onlineveranstaltung%20mit%20dem%20Thema%3Cbr%3E%22Bezahlbare
 %2C%20klimafreundliche%20W%C3%A4rme.%20Worum%20geht%27s%20beim%20Geb%C3%A
 4udeenergiegesetz%3F%22%3Cbr%3E%3Cbr%3E%3Cstrong%3Emit%20Dr.%20Manuela%20
 Rottmann%20MdB%20und%20Niklas%20Wagener%20MdB%3C%2Fstrong%3E%3Cbr%3Eam%20
 Donnerstag%2C%20den%2027.%20April%20um%2018.30%20Uhr%20%C3%BCber%20Zoom%3
 Cbr%3E%3Cbr%3EDas%20Bundeskabinett%20hat%20die%20Novelle%20des%20Geb%C3%A
 4udeenergiegesetzes%20%28GEG%29%20beschlossen.%20Damit%20ist%20ein%20wich
 tiger%20Schritt%20f%C3%BCr%20eine%20sozial%20gerechte%20W%C3%A4rmewende%2
 0und%20den%20Klimaschutz%20im%20Geb%C3%A4udesektor%20genommen.%20Das%20Ge
 setz%20kommt%20jetzt%20ins%20parlamentarische%20Verfahren%20und%20verst%C
 3%A4ndlicherweise%20sind%20auch%20vor%20Ort%20noch%20einige%20Fragen%20of
 fen.%20Zum%20aktuellen%20Stand%20und%20all%20euren%20Fragen%20rund%20um%2
 0das%20Geb%C3%A4udeenergiegesetzes%20im%20Speziellen%20und%20die%20W%C3%A
 4rmewende%20im%20Allgemeinen%20stehen%20euch%20Manuela%20und%20Niklas%20a
 m%20kommenden%20Donnerstag%20zur%20Verf%C3%BCgung.%3Cbr%3E%3Cbr%3EEs%20ha
 ndelt%20sich%20um%20eine%C2%A0mitgliederinterne%C2%A0Veranstaltung.%20%3C
 %2Fp%3E%0A%0A%0A%0A%3Cp%3E%3C%2Fp%3E%0A%0A%0A%0A%3Cdiv%20class%3D%22wp-bl
 ock-buttons%20is-layout-flex%20wp-block-buttons-is-layout-flex%22%3E%0A%3
 Cdiv%20class%3D%22wp-block-button%22%3E%3Ca%20class%3D%22wp-block-button_
 _link%20wp-element-button%22%20href%3D%22https%3A%2F%2Fus02web.zoom.us%2F
 meeting%2Fregister%2FtZYtc-quqTkqG9JaxQWbIPeU3R93bMM_NH9T%22%20target%3D%
 22_blank%22%20rel%3D%22noreferrer%20noopener%22%3EZur%20Registrierung%3C%
 2Fa%3E%3C%2Fdiv%3E%0A%3C%2Fdiv%3E%0A%0A%0A%0A%3Cp%3E%3Cbr%3E%3C%2Fp%3E%0A
 ":Einladung zu einer kurzfristigen Onlineveranstaltung mit dem Thema"Beza
 hlbare\, klimafreundliche Wärme. Worum geht's beim Gebäudeenergiegesetz
 ?"mit Dr. Manuela Rottmann MdB und Niklas Wagener MdBam Donnerstag\, den 
 27. April um 18.30 Uhr über ZoomDas Bundeskabinett hat die Novelle des G
 ebäudeenergiegesetzes (GEG) beschlossen. Damit ist ein wichtiger Schritt
  für eine sozial gerechte Wärmewende und den Klimaschutz im Gebäudesek
 tor genommen. Das Gesetz kommt jetzt ins parlamentarische Verfahren und v
 erständlicherweise sind auch vor Ort noch einige Fragen offen. Zum aktue
 llen Stand und all euren Fragen rund um das Gebäudeenergiegesetzes im Sp
 eziellen und die Wärmewende im Allgemeinen stehen euch Manuela und Nikla
 s am kommenden Donnerstag zur Verfügung.Es handelt sich um eine mitglie
 derinterne Veranstaltung.\n\nZur Registrierung
CLASS:PUBLIC
DTSTART;TZID=Europe/Berlin:20230427T183000
DTEND;TZID=Europe/Berlin:20230427T193000
DTSTAMP:20260422T162343
END:VEVENT
END:VCALENDAR