BEGIN:VCALENDAR
VERSION:2.0
PRODID:gruene-unterfranken.de
METHOD:PUBLISH
BEGIN:VTIMEZONE
TZID:Europe/Berlin
X-LIC-LOCATION:Europe/Berlin
BEGIN:DAYLIGHT
TZOFFSETFROM:+0100
TZOFFSETTO:+0200
TZNAME:CEST
DTSTART:19700329T020000
RRULE:FREQ=YEARLY;INTERVAL=1;BYDAY=-1SU;BYMONTH=3
END:DAYLIGHT
BEGIN:STANDARD
TZOFFSETFROM:+0200
TZOFFSETTO:+0100
TZNAME:CET
DTSTART:19701025T030000
RRULE:FREQ=YEARLY;INTERVAL=1;BYDAY=-1SU;BYMONTH=10
END:STANDARD
END:VTIMEZONE
BEGIN:VEVENT
UID:07f56f7e6eff39156b2d596502379796@gruene-unterfranken.de
URL;VALUE=URI:https://gruene-unterfranken.de/termine/direktdialogwahlkamp
 f-2/
LOCATION:
SUMMARY:Online-Seminar: Dialogwahlkampf so geht’s – von Haustüre und
  Pop Up bis Grillmobil
DESCRIPTION;ALTREP="data:text/html,%0A%3Cp%3EDirektdialogwahlkampf%20ist%
 20erfolgreich.%20Welche%20Formen%20gibt%20es%2C%20wo%20bietet%20sich%20ab
 h%C3%A4ngig%20von%20Ort%20und%20Ressourcen%20welche%20Form%20an%2C%20das%
 20erkl%C3%A4ren%20die%20Gr%C3%BCnen%20Bayern%20an%20zwei%20Abenden.%20%3C
 %2Fp%3E%0A%0A%0A%0A%3Cp%3E%3Cstrong%3EF%C3%BCr%20wen%3A%3C%2Fstrong%3E%26
 nbsp%3Balle%20Mitglieder%2C%20die%20aktiv%20beim%20Wahlkampf%20vor%20Ort%
 20mitmachen%20m%C3%B6chten%3C%2Fp%3E%0A%0A%0A%0A%3Cp%3E%3Cstrong%3EDauer%
 3C%2Fstrong%3E%3A%202%20h%3C%2Fp%3E%0A%0A%0A%0A%3Cp%3E%3Cstrong%3ETermine
 %3C%2Fstrong%3E%3A%3C%2Fp%3E%0A%0A%0A%0A%3Cul%20class%3D%22wp-block-list%
 22%3E%0A%3Cli%3EDonnerstag%2C%2020.%20Juli%202023%2C%2018%20Uhr%3C%2Fli%3
 E%0A%0A%0A%0A%3Cli%3EFreitag%2C%2021.%20Juli%202023%2C%2018%20Uhr%3C%2Fli
 %3E%0A%3C%2Ful%3E%0A%0A%0A%0A%3Cp%3E%3Cstrong%3EReferentin%3A%26nbsp%3B%2
 6nbsp%3B%3C%2Fstrong%3EBirgit%20Zipfel%3C%2Fp%3E%0A%0A%0A%0A%3Cp%3E%3Cstr
 ong%3EKosten%3C%2Fstrong%3E%3A%20kostenloses%20Angebot%20des%20Landesverb
 andes%3C%2Fp%3E%0A%0A%0A%0A%3Cp%3E%3Cstrong%3EAnmeldung%3A%3C%2Fstrong%3E
 %26nbsp%3B%3Ca%20rel%3D%22noreferrer%20noopener%22%20href%3D%22mailto%3Am
 argarete.greber-schmidinger%40gruene-bayern.de%22%20target%3D%22_blank%22
 %3Emargarete.greber-schmidinger%5Bat%5Dgruene-bayern.de%3C%2Fa%3E%3C%2Fp%
 3E%0A":Direktdialogwahlkampf ist erfolgreich. Welche Formen gibt es\, wo 
 bietet sich abhängig von Ort und Ressourcen welche Form an\, das erklär
 en die Grünen Bayern an zwei Abenden.\n\nFür wen: alle Mitglieder\, di
 e aktiv beim Wahlkampf vor Ort mitmachen möchten\n\nDauer: 2 h\n\nTermin
 e:\n\nDonnerstag\, 20. Juli 2023\, 18 Uhr\n\nFreitag\, 21. Juli 2023\, 18
  Uhr\n\nReferentin:  Birgit Zipfel\n\nKosten: kostenloses Angebot des L
 andesverbandes\n\nAnmeldung: margarete.greber-schmidinger[at]gruene-baye
 rn.de
CLASS:PUBLIC
DTSTART;TZID=Europe/Berlin:20230721T180000
DTEND;TZID=Europe/Berlin:20230721T200000
DTSTAMP:20260420T215327
END:VEVENT
END:VCALENDAR