BEGIN:VCALENDAR
VERSION:2.0
PRODID:gruene-unterfranken.de
METHOD:PUBLISH
BEGIN:VTIMEZONE
TZID:Europe/Berlin
X-LIC-LOCATION:Europe/Berlin
BEGIN:DAYLIGHT
TZOFFSETFROM:+0100
TZOFFSETTO:+0200
TZNAME:CEST
DTSTART:19700329T020000
RRULE:FREQ=YEARLY;INTERVAL=1;BYDAY=-1SU;BYMONTH=3
END:DAYLIGHT
BEGIN:STANDARD
TZOFFSETFROM:+0200
TZOFFSETTO:+0100
TZNAME:CET
DTSTART:19701025T030000
RRULE:FREQ=YEARLY;INTERVAL=1;BYDAY=-1SU;BYMONTH=10
END:STANDARD
END:VTIMEZONE
BEGIN:VEVENT
UID:2e12c089f154af5825fc876eb6fd0e18@gruene-unterfranken.de
URL;VALUE=URI:https://gruene-unterfranken.de/termine/bundesfinanzrat-2/
LOCATION:
SUMMARY:Bundesfinanzrat
DESCRIPTION;ALTREP="data:text/html,%3Cp%3EDer%20Bundesfinanzrat%20ist%20i
 nsbesondere%20zust%C3%A4ndig%20f%C3%BCr%20die%20Beratung%20und%20vorl%C3%
 A4ufige%20Inkraftsetzung%20des%20Bundeshaushaltes%20bis%20zur%20n%C3%A4ch
 sten%20Bundesversammlung%20und%20f%C3%BCr%20die%20Budgetkontrolle.%20Er%2
 0besteht%20aus%20dem%2Fder%20BundesschatzmeisterIn%2C%20dem%2Fder%20Bunde
 sschatzmeisterIn%20der%20Gr%C3%BCnen%20Jugend%2C%20den%20gew%C3%A4hlten%2
 0Landesschatzmeister%2Ainnen%20oder%20einem%20sonstigen%20Landesvorstands
 mitglied%20je%20Landesverband%20und%20einem%2Feiner%20Basisvertreter%2Ain
 %20je%20Landesverband.%3Cbr%20%2F%3E%0ADelegierte%20aus%20Bayern%3A%20Pat
 rick%20Stenger%20%28Vertreter%20des%20Landesvorstands%29%20und%20Marie%20
 Hartz%20%28sachverst%C3%A4ndiges%20Mitglied%29%3C%2Fp%3E":Der Bundesfinan
 zrat ist insbesondere zuständig für die Beratung und vorläufige Inkraf
 tsetzung des Bundeshaushaltes bis zur nächsten Bundesversammlung und fü
 r die Budgetkontrolle. Er besteht aus dem/der BundesschatzmeisterIn\, dem
 /der BundesschatzmeisterIn der Grünen Jugend\, den gewählten Landesscha
 tzmeister*innen oder einem sonstigen Landesvorstandsmitglied je Landesver
 band und einem/einer Basisvertreter*in je Landesverband.\n\nDelegierte au
 s Bayern: Patrick Stenger (Vertreter des Landesvorstands) und Marie Hartz
  (sachverständiges Mitglied)
CLASS:PUBLIC
DTSTART;TZID=Europe/Berlin:20261009
DTEND;TZID=Europe/Berlin:20261011
DTSTAMP:20260421T103357
END:VEVENT
END:VCALENDAR