BEGIN:VCALENDAR
VERSION:2.0
PRODID:gruene-unterfranken.de
METHOD:PUBLISH
BEGIN:VTIMEZONE
TZID:Europe/Berlin
X-LIC-LOCATION:Europe/Berlin
BEGIN:DAYLIGHT
TZOFFSETFROM:+0100
TZOFFSETTO:+0200
TZNAME:CEST
DTSTART:19700329T020000
RRULE:FREQ=YEARLY;INTERVAL=1;BYDAY=-1SU;BYMONTH=3
END:DAYLIGHT
BEGIN:STANDARD
TZOFFSETFROM:+0200
TZOFFSETTO:+0100
TZNAME:CET
DTSTART:19701025T030000
RRULE:FREQ=YEARLY;INTERVAL=1;BYDAY=-1SU;BYMONTH=10
END:STANDARD
END:VTIMEZONE
BEGIN:VEVENT
UID:53b52a144e9832dd5af99b1782a13a97@gruene-unterfranken.de
URL;VALUE=URI:https://gruene-unterfranken.de/termine/bezirksvorstands-sit
 zung-3/
LOCATION:
SUMMARY:Bezirksvorstands-Sitzung
DESCRIPTION;ALTREP="data:text/html,%3Cp%3EDer%20Bezirksvorstand%20trifft%
 20sich%20zu%20seiner%20Sitzung.%20Die%20Sitzungen%20sind%20mitglieder%C3%
 B6ffentlich.%3C%2Fp%3E":Der Bezirksvorstand trifft sich zu seiner Sitzung
 . Die Sitzungen sind mitgliederöffentlich.
CLASS:PUBLIC
DTSTART;TZID=Europe/Berlin:20260428T203000
DTEND;TZID=Europe/Berlin:20260428T223000
DTSTAMP:20260420T031725
END:VEVENT
END:VCALENDAR