BEGIN:VCALENDAR
VERSION:2.0
PRODID:gruene-unterfranken.de
METHOD:PUBLISH
BEGIN:VTIMEZONE
TZID:Europe/Berlin
X-LIC-LOCATION:Europe/Berlin
BEGIN:DAYLIGHT
TZOFFSETFROM:+0100
TZOFFSETTO:+0200
TZNAME:CEST
DTSTART:19700329T020000
RRULE:FREQ=YEARLY;INTERVAL=1;BYDAY=-1SU;BYMONTH=3
END:DAYLIGHT
BEGIN:STANDARD
TZOFFSETFROM:+0200
TZOFFSETTO:+0100
TZNAME:CET
DTSTART:19701025T030000
RRULE:FREQ=YEARLY;INTERVAL=1;BYDAY=-1SU;BYMONTH=10
END:STANDARD
END:VTIMEZONE
BEGIN:VEVENT
UID:deb711c9a9f246a5e5b5f0690573047b@gruene-unterfranken.de
URL;VALUE=URI:https://gruene-unterfranken.de/termine/bezirksparteitag/
LOCATION:Pfarrzentrum Hammelburg
SUMMARY:Bezirksparteitag
DESCRIPTION;ALTREP="data:text/html,%3Cp%3EDer%20Bezirksverband%20von%20B%
 C3%9CNDNIS%2090%2FDIE%20GR%C3%9CNEN%20%20organisiert%20seinen%20satzungsg
 em%C3%A4%C3%9Fen%20Bezirksparteitag%20am%20Samstag%2C%2011.%20November%20
 2026%2C%20im%20Pfarrzentrum%20Hammelburg.%20Dort%20werden%20die%20Delegie
 rten%20aus%20allen%20unterfr%C3%A4nkischen%20Kreisverb%C3%A4nden%20eingel
 aden.%20N%C3%A4here%20Informationen%20folgen%20noch%20rechtzeitig.%20%3C%
 2Fp%3E":Der Bezirksverband von BÜNDNIS 90/DIE GRÜNEN  organisiert seine
 n satzungsgemäßen Bezirksparteitag am Samstag\, 11. November 2026\, im 
 Pfarrzentrum Hammelburg. Dort werden die Delegierten aus allen unterfrän
 kischen Kreisverbänden eingeladen. Nähere Informationen folgen noch rec
 htzeitig.
CLASS:PUBLIC
DTSTART;TZID=Europe/Berlin:20261121
DTEND;TZID=Europe/Berlin:20261122
DTSTAMP:20260421T102957
END:VEVENT
END:VCALENDAR