BEGIN:VCALENDAR
VERSION:2.0
PRODID:gruene-unterfranken.de
METHOD:PUBLISH
BEGIN:VTIMEZONE
TZID:Europe/Berlin
X-LIC-LOCATION:Europe/Berlin
BEGIN:DAYLIGHT
TZOFFSETFROM:+0100
TZOFFSETTO:+0200
TZNAME:CEST
DTSTART:19700329T020000
RRULE:FREQ=YEARLY;INTERVAL=1;BYDAY=-1SU;BYMONTH=3
END:DAYLIGHT
BEGIN:STANDARD
TZOFFSETFROM:+0200
TZOFFSETTO:+0100
TZNAME:CET
DTSTART:19701025T030000
RRULE:FREQ=YEARLY;INTERVAL=1;BYDAY=-1SU;BYMONTH=10
END:STANDARD
END:VTIMEZONE
BEGIN:VEVENT
UID:f1e90002857ec29a41396845a03bdab3@gruene-unterfranken.de
URL;VALUE=URI:https://gruene-unterfranken.de/termine/bezirksklausur-2/
LOCATION:Grünes Büro Würzburg
SUMMARY:Bezirksklausur
DESCRIPTION;ALTREP="data:text/html,%3Cp%3EDer%20Bezirksvorstand%20trifft%
 20sich%20zu%20einer%20internen%20Klausur%20im%20W%C3%BCrzburger%20B%C3%BC
 ro.%3C%2Fp%3E":Der Bezirksvorstand trifft sich zu einer internen Klausur 
 im Würzburger Büro.
CLASS:PUBLIC
DTSTART;TZID=Europe/Berlin:20260514T100000
DTEND;TZID=Europe/Berlin:20260514T180000
DTSTAMP:20260421T103122
END:VEVENT
END:VCALENDAR