BEGIN:VCALENDAR
VERSION:2.0
PRODID:gruene-unterfranken.de
METHOD:PUBLISH
BEGIN:VTIMEZONE
TZID:Europe/Berlin
X-LIC-LOCATION:Europe/Berlin
BEGIN:DAYLIGHT
TZOFFSETFROM:+0100
TZOFFSETTO:+0200
TZNAME:CEST
DTSTART:19700329T020000
RRULE:FREQ=YEARLY;INTERVAL=1;BYDAY=-1SU;BYMONTH=3
END:DAYLIGHT
BEGIN:STANDARD
TZOFFSETFROM:+0200
TZOFFSETTO:+0100
TZNAME:CET
DTSTART:19701025T030000
RRULE:FREQ=YEARLY;INTERVAL=1;BYDAY=-1SU;BYMONTH=10
END:STANDARD
END:VTIMEZONE
BEGIN:VEVENT
UID:55e618f48fd74adc9249f681684dd2d7@gruene-unterfranken.de
URL;VALUE=URI:https://gruene-unterfranken.de/termine/bezirksforum-kommuna
 lwahl/
LOCATION:Alte Turnhalle, Gärtnerstraße 2, Lohr
SUMMARY:Bezirksforum Kommunalwahl
DESCRIPTION;ALTREP="data:text/html,%0A%3Cp%3ESamstag%2C%2011.%20Oktober%2
 0von%2011%20bis%2016%3A30%20Uhr%3A%20Der%20Bezirksvorstand%20l%C3%A4dt%20
 ein%20zu%20einem%20offenen%20Bezirksforum%20zur%20Kommunalwahl%20nach%20L
 ohr%20am%20Main%21%20Alle%20Mitglieder%20und%20auch%20Nicht-Mitglieder%2C
 %20die%20auf%20unseren%20Listen%20kandidieren%2C%20sind%20herzlich%20eing
 eladen.%20Die%20Pl%C3%A4tze%20sind%20auf%20circa%2050%20begrenzt%21%3C%2F
 p%3E%0A%0A%0A%0A%3Cdiv%20style%3D%22height%3A25px%22%20aria-hidden%3D%22t
 rue%22%20class%3D%22wp-block-spacer%22%3E%3C%2Fdiv%3E%0A%0A%0A%0A%3Ch2%20
 class%3D%22wp-block-heading%22%3EDas%20erwartet%20euch%3A%3C%2Fh2%3E%0A%0
 A%0A%0A%3Cp%3E%3Cstrong%3E11%3A00%20Uhr%20Begr%C3%BC%C3%9Fung%3C%2Fstrong
 %3E%3C%2Fp%3E%0A%0A%0A%0A%3Cp%3E%3Cstrong%3E11%3A15%20Uhr%20Workshoprunde
 %201%3C%2Fstrong%3E%26nbsp%3Bmit%202%20parallelen%20Workshops%3C%2Fp%3E%0
 A%0A%0A%0A%3Cul%20class%3D%22wp-block-list%22%3E%0A%3Cli%3E%3Cstrong%3ECo
 ol%20%26amp%3B%20klar%20reagieren%20auf%20Stammtischparolen%20%3C%2Fstron
 g%3E%28Birgit%20Zipfel%2C%20Leitung%20strategische%20Organisationsentwick
 lung%20und%20Mitgliederberatung%20GR%C3%9CNE%20Bayern%29%3Cbr%3EWahlkampf
 %20ist%20Hochsaison%20f%C3%BCr%20Stammtischparolen.%20Die%20Orte%20wo%20u
 ns%20populistische%20Parolen%20begegnen%20sind%20vielf%C3%A4ltig%20und%20
 %C3%BCberall%20anzutreffen.%20In%20der%20Arbeit%2C%20beim%20Elternabend%2
 C%20beim%20Sport%2C%20im%20Familien-%20oder%20Freundeskreis%20oder%20eben
 %20auch%20am%20Infostand%20oder%20in%20Diskussionsrunden.%20In%20diesem%2
 0Workshop%20kl%C3%A4ren%20wir%20was%20Stammtischparolen%20sind%20und%20wa
 rum%20sie%20so%20destruktiv%20und%20diskriminierend%20wirken.%20Dazu%20gi
 bt%20es%2010%20Strategien%20an%20die%20Hand%2C%20die%20euch%20helfen%20we
 rden%20in%20solchen%20Situationen%20besser%20zu%20bestehen.%3C%2Fli%3E%0A
 %0A%0A%0A%3Cli%3E%3Cstrong%3EReels%20selbst%20machen%20%26amp%3B%20Social
 %20Media%3C%2Fstrong%3E%20%28Maximilian%20Retzer%2C%20Social-Media-Expert
 e%20im%20B%C3%BCro%20Katharina%20Schulze%29%3Cbr%3EInstagram%2C%20Faceboo
 k%2C%20TikTok%2C%20LinkedIn%20%E2%80%93%20Kommunikation%20mit%20den%20B%C
 3%BCrger%2Ainnen%20findet%20nicht%20mehr%20nur%20%C3%BCber%20Pressearbeit
 %20oder%20Infost%C3%A4nde%20statt%2C%20sondern%20verst%C3%A4rkt%20auch%20
 in%20den%20Sozialen%20Medien.%20Im%20Workshop%20habt%20ihr%20die%20M%C3%B
 6glichkeit%20Ideen%20zu%20entwickeln%2C%20wie%20ihr%20%28vor%20allem%20mi
 t%20Videos%29%20mit%20euren%20Wahlkampfthemen%20die%20B%C3%BCrger%2Ainnen
 %20vor%20Ort%20erreicht%20und%20neue%20Wege%20und%20Formen%20der%20Kommun
 ikation%20finden%20k%C3%B6nnt.%20Daf%C3%BCr%20bekommt%20ihr%20konkrete%20
 Beispiele%20und%20leicht%20umsetzbare%20Ideen%20an%20die%20Hand.%3C%2Fli%
 3E%0A%3C%2Ful%3E%0A%0A%0A%0A%3Cp%3E%3Cstrong%3E13%3A15%20-%2014%3A15%20Uh
 r%20Mittagessen%3C%2Fstrong%3E%3C%2Fp%3E%0A%0A%0A%0A%3Cp%3E%3Cstrong%3E14
 %3A15%20Uhr%20Workshoprunde%202%3C%2Fstrong%3E%26nbsp%3Bmit%202%20paralle
 len%20Workshops%3C%2Fp%3E%0A%0A%0A%0A%3Cul%20class%3D%22wp-block-list%22%
 3E%0A%3Cli%3E%3Cstrong%3EStorytelling%20f%C3%BCr%20Kandidierende%3C%2Fstr
 ong%3E%20%28Joana%20Bayraktar%2C%20B.%20Sc%20Politikwissenschaftlerin%2C%
 20Schwerpunkt%20Political%20Data%20Science%2C%20Gr%C3%BCne%20Stadtr%C3%A4
 tin%2C%20Kreisr%C3%A4tin%29%3Cbr%3EStorytelling%20ist%20die%20Kunst%20Inf
 ormationen%2C%20Ideen%20und%20Botschaften%20in%20Form%20einer%20Geschicht
 e%20zu%20vermitteln.%20So%20schaffst%20du%20eine%20emotionale%20Verbindun
 g%20zum%2Fr%20Zuh%C3%B6renden%20und%20bleibst%20in%20Erinnerung.%20Storyt
 elling%20nutzt%20narrative%20Strukturen%2C%20um%20Inhalte%20zu%20veransch
 aulichen%2C%20zu%20motivieren%20oder%20zu%20%C3%BCberzeugen.%20Finde%20in
 %20diesem%20Workshop%20deine%20ganz%20eigene%20Geschichte%2C%20die%20du%2
 0von%20dir%20erz%C3%A4hlen%20m%C3%B6chtest%20und%20die%20du%20%C3%BCber%2
 0dich%20h%C3%B6ren%20m%C3%B6chtest%20in%20diesem%20Wahlkampf.%20Echt%2C%2
 0authentisch%2C%20emotional.%20%3C%2Fli%3E%0A%0A%0A%0A%3Cli%3E%3Cstrong%3
 EKrisenkommunikation%20%3C%2Fstrong%3E%28Patrick%20Friedl%2C%20MdL%2C%20m
 it%20jahrzehntelanger%20Wahlkampferfahrung%20in%20der%20Gr%C3%BCnen-Hochb
 urg%20W%C3%BCrzburg%29%3Cbr%3EWahlkampf%20ist%20in%20vielen%20Belangen%20
 eine%20besondere%20Situation.%20Wir%20brauchen%20Energie%2C%20Zeit%20und%
 20Vorbereitung%2C%20m%C3%BCssen%20mit%20Frustration%2C%20Euphorie%20und%2
 0Ungewohntem%20umgehen%20und%20sind%20als%20Person%20oft%20in%20verschied
 enen%2C%20manchmal%20schnell%20wechselnden%20%22Rollen%22%20gefordert.%20
 Ich%20m%C3%B6chte%20in%20meinem%20Workshop%20Anregungen%2C%20Hilfestellun
 gen%20und%20Austausch%20dazu%20anbieten%20und%20auf%20den%20Umgang%20mit%
 20als%20besonders%20schwierig%20empfundenen%20Anforderungen%20eingehen.%2
 0Bringt%20Eure%20Anliegen%20mit%21%3C%2Fli%3E%0A%3C%2Ful%3E%0A%0A%0A%0A%3
 Cp%3E%3Cstrong%3E16%3A15%20-%2016%3A30%20Uhr%26nbsp%3B%3C%2Fstrong%3E%3Cs
 trong%3EZusammenfassung%20%26amp%3B%20Abschluss%3C%2Fstrong%3E%3Cstrong%3
 E%3C%2Fstrong%3E%3C%2Fp%3E%0A%0A%0A%0A%3Cdiv%20style%3D%22height%3A47px%2
 2%20aria-hidden%3D%22true%22%20class%3D%22wp-block-spacer%22%3E%3C%2Fdiv%
 3E%0A%0A%0A%0A%3Ch2%20class%3D%22wp-block-heading%22%3EGut%20zu%20wissen%
 3C%2Fh2%3E%0A%0A%0A%0A%3Cp%3EWir%20sammeln%20dieses%20Mal%20einen%20Verpf
 legungsbeitrag%20von%2010%20%E2%82%AC%26nbsp%3Bpro%20Person%20ein.%20Ihr%
 20bekommt%20daf%C3%BCr%20ein%20warmes%20Mittagessen%20und%20ein%20gewohnt
 %20leckeres%20Getr%C3%A4nke%2C%20Kuchen-%20und%20Snackbuffet.%3C%2Fp%3E%0
 A%0A%0A%0A%3Cdiv%20style%3D%22height%3A39px%22%20aria-hidden%3D%22true%22
 %20class%3D%22wp-block-spacer%22%3E%3C%2Fdiv%3E%0A%0A%0A%0A%3Ch2%20class%
 3D%22wp-block-heading%22%3EAnmeldezeitraum%20ist%20vorbei%2C%20bitte%20me
 ldet%20euch%20aber%20bei%20%3Ca%20href%3D%22mailto%3Abuero%40gruene-unter
 franken.de%22%3Ebuero%40gruene-unterfranken.de%20%3C%2Fa%3E%3C%2Fh2%3E%0A
 %0A%0A%0A%3Cp%3E%3C%2Fp%3E%0A":Samstag\, 11. Oktober von 11 bis 16:30 Uhr
 : Der Bezirksvorstand lädt ein zu einem offenen Bezirksforum zur Kommuna
 lwahl nach Lohr am Main! Alle Mitglieder und auch Nicht-Mitglieder\, die 
 auf unseren Listen kandidieren\, sind herzlich eingeladen. Die Plätze si
 nd auf circa 50 begrenzt!\n\nDas erwartet euch:\n\n11:00 Uhr Begrüßung\
 n\n11:15 Uhr Workshoprunde 1 mit 2 parallelen Workshops\n\nCool & klar r
 eagieren auf Stammtischparolen (Birgit Zipfel\, Leitung strategische Orga
 nisationsentwicklung und Mitgliederberatung GRÜNE Bayern)Wahlkampf ist H
 ochsaison für Stammtischparolen. Die Orte wo uns populistische Parolen b
 egegnen sind vielfältig und überall anzutreffen. In der Arbeit\, beim E
 lternabend\, beim Sport\, im Familien- oder Freundeskreis oder eben auch 
 am Infostand oder in Diskussionsrunden. In diesem Workshop klären wir wa
 s Stammtischparolen sind und warum sie so destruktiv und diskriminierend 
 wirken. Dazu gibt es 10 Strategien an die Hand\, die euch helfen werden i
 n solchen Situationen besser zu bestehen.\n\nReels selbst machen & Social
  Media (Maximilian Retzer\, Social-Media-Experte im Büro Katharina Schul
 ze)Instagram\, Facebook\, TikTok\, LinkedIn – Kommunikation mit den Bü
 rger*innen findet nicht mehr nur über Pressearbeit oder Infostände stat
 t\, sondern verstärkt auch in den Sozialen Medien. Im Workshop habt ihr 
 die Möglichkeit Ideen zu entwickeln\, wie ihr (vor allem mit Videos) mit
  euren Wahlkampfthemen die Bürger*innen vor Ort erreicht und neue Wege u
 nd Formen der Kommunikation finden könnt. Dafür bekommt ihr konkrete Be
 ispiele und leicht umsetzbare Ideen an die Hand.\n\n13:15 - 14:15 Uhr Mit
 tagessen\n\n14:15 Uhr Workshoprunde 2 mit 2 parallelen Workshops\n\nStor
 ytelling für Kandidierende (Joana Bayraktar\, B. Sc Politikwissenschaftl
 erin\, Schwerpunkt Political Data Science\, Grüne Stadträtin\, Kreisrä
 tin)Storytelling ist die Kunst Informationen\, Ideen und Botschaften in F
 orm einer Geschichte zu vermitteln. So schaffst du eine emotionale Verbin
 dung zum/r Zuhörenden und bleibst in Erinnerung. Storytelling nutzt narr
 ative Strukturen\, um Inhalte zu veranschaulichen\, zu motivieren oder zu
  überzeugen. Finde in diesem Workshop deine ganz eigene Geschichte\, die
  du von dir erzählen möchtest und die du über dich hören möchtest in
  diesem Wahlkampf. Echt\, authentisch\, emotional.\n\nKrisenkommunikation
  (Patrick Friedl\, MdL\, mit jahrzehntelanger Wahlkampferfahrung in der G
 rünen-Hochburg Würzburg)Wahlkampf ist in vielen Belangen eine besondere
  Situation. Wir brauchen Energie\, Zeit und Vorbereitung\, müssen mit Fr
 ustration\, Euphorie und Ungewohntem umgehen und sind als Person oft in v
 erschiedenen\, manchmal schnell wechselnden "Rollen" gefordert. Ich möch
 te in meinem Workshop Anregungen\, Hilfestellungen und Austausch dazu anb
 ieten und auf den Umgang mit als besonders schwierig empfundenen Anforder
 ungen eingehen. Bringt Eure Anliegen mit!\n\n16:15 - 16:30 Uhr Zusammenf
 assung & Abschluss\n\nGut zu wissen\n\nWir sammeln dieses Mal einen Verpf
 legungsbeitrag von 10 € pro Person ein. Ihr bekommt dafür ein warmes 
 Mittagessen und ein gewohnt leckeres Getränke\, Kuchen- und Snackbuffet.
 \n\nAnmeldezeitraum ist vorbei\, bitte meldet euch aber bei buero@gruene-
 unterfranken.de
CLASS:PUBLIC
DTSTART;TZID=Europe/Berlin:20251011T110000
DTEND;TZID=Europe/Berlin:20251011T163000
DTSTAMP:20260421T161640
END:VEVENT
END:VCALENDAR