BEGIN:VCALENDAR
VERSION:2.0
PRODID:gruene-unterfranken.de
METHOD:PUBLISH
BEGIN:VTIMEZONE
TZID:Europe/Berlin
X-LIC-LOCATION:Europe/Berlin
BEGIN:DAYLIGHT
TZOFFSETFROM:+0100
TZOFFSETTO:+0200
TZNAME:CEST
DTSTART:19700329T020000
RRULE:FREQ=YEARLY;INTERVAL=1;BYDAY=-1SU;BYMONTH=3
END:DAYLIGHT
BEGIN:STANDARD
TZOFFSETFROM:+0200
TZOFFSETTO:+0100
TZNAME:CET
DTSTART:19701025T030000
RRULE:FREQ=YEARLY;INTERVAL=1;BYDAY=-1SU;BYMONTH=10
END:STANDARD
END:VTIMEZONE
BEGIN:VEVENT
UID:00aaf638583a749238a9d929e375f4c8@gruene-unterfranken.de
URL;VALUE=URI:https://gruene-unterfranken.de/termine/aufstellungsversamml
 ung-stimmkreis-604-hassberge/
LOCATION:
SUMMARY:Aufstellungsversammlung Stimmkreis 604 Haßberge/Rhön-Grabfeld
DESCRIPTION;ALTREP="data:text/html,%0A%3Cp%3EDer%20Stimmkreis%20Ha%C3%9Fb
 erge%2FRh%C3%B6n-Grabfeld%20f%C3%BChrt%20seine%20Aufstellungsversammlung%
 20am%2018.11.%20ab%2019%3A30%20Uhr%20im%20Kreisb%C3%BCro%20durch.%3C%2Fp%
 3E%0A%0A%0A%0A%3Cp%3EAdresse%3A%20Bahnhofstra%C3%9Fe%202%2C%20Laden%20Nr.
 %2014%2C%2097437%20Ha%C3%9Ffurt.%3C%2Fp%3E%0A%0A%0A%0A%3Cp%3E%3C%2Fp%3E%0
 A":Der Stimmkreis Haßberge/Rhön-Grabfeld führt seine Aufstellungsversa
 mmlung am 18.11. ab 19:30 Uhr im Kreisbüro durch.\n\nAdresse: Bahnhofstr
 aße 2\, Laden Nr. 14\, 97437 Haßfurt.
CLASS:PUBLIC
DTSTART;TZID=Europe/Berlin:20221118T193000
DTEND;TZID=Europe/Berlin:20221118T213000
DTSTAMP:20260421T015837
END:VEVENT
END:VCALENDAR