BEGIN:VCALENDAR
VERSION:2.0
PRODID:gruene-unterfranken.de
METHOD:PUBLISH
BEGIN:VTIMEZONE
TZID:Europe/Berlin
X-LIC-LOCATION:Europe/Berlin
BEGIN:DAYLIGHT
TZOFFSETFROM:+0100
TZOFFSETTO:+0200
TZNAME:CEST
DTSTART:19700329T020000
RRULE:FREQ=YEARLY;INTERVAL=1;BYDAY=-1SU;BYMONTH=3
END:DAYLIGHT
BEGIN:STANDARD
TZOFFSETFROM:+0200
TZOFFSETTO:+0100
TZNAME:CET
DTSTART:19701025T030000
RRULE:FREQ=YEARLY;INTERVAL=1;BYDAY=-1SU;BYMONTH=10
END:STANDARD
END:VTIMEZONE
BEGIN:VEVENT
UID:88ed566df0481592adf605c2b819ef81@gruene-unterfranken.de
URL;VALUE=URI:https://gruene-unterfranken.de/termine/auf-ein-bier-mit-man
 uela-rottmann/
LOCATION:
SUMMARY:KV Bad Kissingen: „Auf ein Bier mit Manuela Rottmann“
DESCRIPTION;ALTREP="data:text/html,%0A%3Cp%3EAm%20Dienstag%2C%202.%20Mai%
 20ab%2019%20Uhr%20l%C3%A4dt%20der%20Kreisverband%20Bad%20Kissingen%20ein%
 20in%20das%20Gastropub%20%22Klappe%22%20in%20Bad%20Br%C3%BCckenau.%20%3C%
 2Fp%3E%0A%0A%0A%0A%3Cp%3EEs%20geht%20darum%2C%20was%20die%20Politik%20in%
 20Berlin%20und%20M%C3%BCnchen%20f%C3%BCr%20den%20l%C3%A4ndlichen%20Raum%2
 0tun%20kann%2C%20wie%20die%20Mobilit%C3%A4t%20der%20Zukunft%3F%20Ist%20un
 ser%20Klima%20noch%20zu%20retten%3F%3C%2Fp%3E%0A%0A%0A%0A%3Cp%3EMit%3A%3C
 br%3E%3Cstrong%3EDr.%20Manuela%20Rottmann%3C%2Fstrong%3E%2C%20Bundestagsa
 bgeordnete%3C%2Fp%3E%0A%0A%0A%0A%3Cp%3Eund%3Cbr%3E%3Cstrong%3EMark%20Deck
 er%3C%2Fstrong%3E%2C%20Direktkandidat%20Landtagswahl%3C%2Fp%3E%0A%0A%0A%0
 A%3Cp%3E%3Cbr%3EAm%20Dienstag%2C%20den%202.%20Mai%202023%3Cbr%3Eum%2019%3
 A00%20Uhr%3Cbr%3EIn%20%22Die%20Klappe%22%3Cbr%3EAltstadt%208%2C%2097769%2
 C%20Bad%20Br%C3%BCckenau%3C%2Fp%3E%0A":Am Dienstag\, 2. Mai ab 19 Uhr lä
 dt der Kreisverband Bad Kissingen ein in das Gastropub "Klappe" in Bad Br
 ückenau.\n\nEs geht darum\, was die Politik in Berlin und München für 
 den ländlichen Raum tun kann\, wie die Mobilität der Zukunft? Ist unser
  Klima noch zu retten?\n\nMit:Dr. Manuela Rottmann\, Bundestagsabgeordnet
 e\n\nundMark Decker\, Direktkandidat Landtagswahl\n\nAm Dienstag\, den 2.
  Mai 2023um 19:00 UhrIn "Die Klappe"Altstadt 8\, 97769\, Bad Brückenau
CLASS:PUBLIC
DTSTART;TZID=Europe/Berlin:20230502T190000
DTEND;TZID=Europe/Berlin:20230502T210000
DTSTAMP:20260422T083602
END:VEVENT
END:VCALENDAR