BEGIN:VCALENDAR
VERSION:2.0
PRODID:gruene-unterfranken.de
METHOD:PUBLISH
BEGIN:VTIMEZONE
TZID:Europe/Berlin
X-LIC-LOCATION:Europe/Berlin
BEGIN:DAYLIGHT
TZOFFSETFROM:+0100
TZOFFSETTO:+0200
TZNAME:CEST
DTSTART:19700329T020000
RRULE:FREQ=YEARLY;INTERVAL=1;BYDAY=-1SU;BYMONTH=3
END:DAYLIGHT
BEGIN:STANDARD
TZOFFSETFROM:+0200
TZOFFSETTO:+0100
TZNAME:CET
DTSTART:19701025T030000
RRULE:FREQ=YEARLY;INTERVAL=1;BYDAY=-1SU;BYMONTH=10
END:STANDARD
END:VTIMEZONE
BEGIN:VEVENT
UID:f13c06adbcf0a6ad0121b272adcaf078@gruene-unterfranken.de
URL;VALUE=URI:https://gruene-unterfranken.de/termine/2-lbk-land-bezirk-ko
 nferenz/
LOCATION:
SUMMARY:2. LBK (Land-Bezirk-Konferenz)
DESCRIPTION;ALTREP="data:text/html,%3Cp%3EDie%20Land-Bezirk-Konferenz%20i
 st%20ein%20Austauschformat%20f%C3%BCr%20die%20Landes-%20und%20Bezirkseben
 e.%3Cbr%20%2F%3E%0A%3Cbr%20%2F%3E%0ADie%20Beteiligten%20werden%20pers%C3%
 B6nlich%20eingeladen.%3C%2Fp%3E":Die Land-Bezirk-Konferenz ist ein Austau
 schformat für die Landes- und Bezirksebene.\n\nDie Beteiligten werden pe
 rsönlich eingeladen.
CLASS:PUBLIC
DTSTART;TZID=Europe/Berlin:20260506T180000
DTEND;TZID=Europe/Berlin:20260506T203000
DTSTAMP:20260420T031348
END:VEVENT
END:VCALENDAR